BEGIN:VCALENDAR
VERSION:2.0
PRODID:-//KHM - ECPv6.15.20//NONSGML v1.0//EN
CALSCALE:GREGORIAN
METHOD:PUBLISH
X-WR-CALNAME:KHM
X-ORIGINAL-URL:https://karizmatikus.hu
X-WR-CALDESC:Események KHM
REFRESH-INTERVAL;VALUE=DURATION:PT1H
X-Robots-Tag:noindex
X-PUBLISHED-TTL:PT1H
BEGIN:VTIMEZONE
TZID:Europe/Budapest
BEGIN:DAYLIGHT
TZOFFSETFROM:+0100
TZOFFSETTO:+0200
TZNAME:CEST
DTSTART:20240331T010000
END:DAYLIGHT
BEGIN:STANDARD
TZOFFSETFROM:+0200
TZOFFSETTO:+0100
TZNAME:CET
DTSTART:20241027T010000
END:STANDARD
BEGIN:DAYLIGHT
TZOFFSETFROM:+0100
TZOFFSETTO:+0200
TZNAME:CEST
DTSTART:20250330T010000
END:DAYLIGHT
BEGIN:STANDARD
TZOFFSETFROM:+0200
TZOFFSETTO:+0100
TZNAME:CET
DTSTART:20251026T010000
END:STANDARD
BEGIN:DAYLIGHT
TZOFFSETFROM:+0100
TZOFFSETTO:+0200
TZNAME:CEST
DTSTART:20260329T010000
END:DAYLIGHT
BEGIN:STANDARD
TZOFFSETFROM:+0200
TZOFFSETTO:+0100
TZNAME:CET
DTSTART:20261025T010000
END:STANDARD
BEGIN:DAYLIGHT
TZOFFSETFROM:+0100
TZOFFSETTO:+0200
TZNAME:CEST
DTSTART:20270328T010000
END:DAYLIGHT
BEGIN:STANDARD
TZOFFSETFROM:+0200
TZOFFSETTO:+0100
TZNAME:CET
DTSTART:20271031T010000
END:STANDARD
END:VTIMEZONE
BEGIN:VEVENT
DTSTART;TZID=Europe/Budapest:20260211T190000
DTEND;TZID=Europe/Budapest:20260215T103000
DTSTAMP:20260424T124454
CREATED:20260123T071741Z
LAST-MODIFIED:20260127T064558Z
UID:31946-1770836400-1771151400@karizmatikus.hu
SUMMARY:Házasság hete 2026
DESCRIPTION:Több mint két évtizede Angliából indult el ez a kezdeményezés\, amely Valentin-nap környékén minden évben egy hétig a házasság és a család fontosságára kívánja irányítani a figyelmet. \nA házasság hetét – amelyhez hazai és nemzetközi szinten is számos ismert közéleti személyiség csatlakozott kifejezve elköteleződését a házasság\, a család ügye iránt – mára 4 kontinens 21 országában ünneplik. Hazánkban az országos eseménysorozatot 2008 óta rendezik meg a keresztény egyházak és civil szervezetek széles körű összefogásával\, számtalan nagyváros\, település\, közösség részvételével. \n„A házasság Isten csodálatos ajándéka és gondoskodása az ember számára\, amelyben a felek megtapasztalhatják a feltétel nélküli szeretet\, a hűség és az őszinte megbocsátás értékét egy nekik rendelt\, de nem tökéletes társon keresztül. \nA pécsi program megtalálható itt.
URL:https://karizmatikus.hu/event/hazassag-hete-2026/
LOCATION:Pálos Központ\, Hunyadi út 70.\, Pécs\, Baranya\, 7625\, Hungary
CATEGORIES:lelkigyakorlat,szentmise,túra
ATTACH;FMTTYPE=image/jpeg:https://sp-ao.shortpixel.ai/client/to_webp,q_lossless,ret_img,w_1280/https://paloskozpont.hu/wp-content/uploads/2026/01/HH_2026_logo-szlogennel_datummal_fekvo-1.jpg
END:VEVENT
BEGIN:VEVENT
DTSTART;TZID=Europe/Budapest:20260122T180000
DTEND;TZID=Europe/Budapest:20260125T130000
DTSTAMP:20260424T124455
CREATED:20251226T094618Z
LAST-MODIFIED:20251226T094618Z
UID:31347-1769104800-1769346000@karizmatikus.hu
SUMMARY:Dr. Gál Péter atya lelkigyakorlata
DESCRIPTION:Ezek a lelkigyakorlatok Oltáriszentség – központúak. Az alaptémától függetlenül mindegyiken van alkalom egyéni megbeszélésekre\, szakítunk időt arra\, hogy együtt\, vagy külön foglalkozzunk\, imádkozzunk a belső gyógyulással\, a családi múlt terheitől\, valamint különféle kötelékektől való szabadulással kapcsolatban. Mind a négy nap szentmiséit a résztvevőkért ajánlom fel\, az egyiket a negatív családi örökségtől való szabadulásért.
URL:https://karizmatikus.hu/event/dr-gal-peter-atya-lelkigyakorlata-11/
LOCATION:Szent Gellért Lelkigyakorlatos Ház\, Móricz Zsigmond út 139.\, Leányfalu\, 2016\, Hungary
CATEGORIES:lelkigyakorlat
ATTACH;FMTTYPE=image/jpeg:https://i3.wp.com/karizmatikus.hu/wp-content/uploads/2024/02/sztgellerthaz.jpg?w=1093&resize=1093%2C822&ssl=1&wsr
ORGANIZER;CN="Szent Gell%C3%A9rt H%C3%A1z":MAILTO:szentgellerthaz@katolikus.hu
END:VEVENT
BEGIN:VEVENT
DTSTART;TZID=Europe/Budapest:20260118T180000
DTEND;TZID=Europe/Budapest:20260118T200000
DTSTAMP:20260424T124455
CREATED:20260104T152155Z
LAST-MODIFIED:20260104T152155Z
UID:31524-1768759200-1768766400@karizmatikus.hu
SUMMARY:Máthé Péter pálos atya születésének 100. évfordulójára emlékezünk
DESCRIPTION:2026. január 18-án 18 órától Máthé Péter pálos tartományfőnök atya születésének 100. évfordulója alkalmából ünnepi szentmisére\, majd az életét bemutató kisfilm vetítésére várjuk a híveket a Pálos templomba.
URL:https://karizmatikus.hu/event/mathe-peter-palos-atya-szuletesenek-100-evfordulojara-emlekezunk/
LOCATION:Pálos Templom\, Hunyadi János utca 72.\, Pécs\, 7625\, Magyarország
CATEGORIES:szentmise
ATTACH;FMTTYPE=image/jpeg:https://paloskozpont.hu/wp-content/uploads/2025/12/Kep1.webp
END:VEVENT
BEGIN:VEVENT
DTSTART;TZID=Europe/Budapest:20251231T230000
DTEND;TZID=Europe/Budapest:20260101T010000
DTSTAMP:20260424T124455
CREATED:20251128T142915Z
LAST-MODIFIED:20251128T143147Z
UID:30981-1767222000-1767229200@karizmatikus.hu
SUMMARY:Szilveszter éji virrasztás
DESCRIPTION:Virrassz velünk Szilveszter éjszakáján az Oltáriszentség előtt! \nKöszöntsük együtt a közelgő új esztendőt szentségimádással\, éjszakai zsolozsmával és Szűz Mária\, Isten Anyja tiszteletére végzett szentmisével! Ajánljuk magunkat és szeretteinket\, közösségeinket az Úr irgalmába és a Szűzanya szerető oltalmába! \nProgram:\n23:00 szentségimádás hálaadással\, dicsőítéssel \n23:40 Virrasztó zsolozsma Szűz Mária\, Isten Anyja tiszteletére \n24:00 Szentmise \nA szentmise után agapét tartunk\, koccintással. Aki tud\, hozzon magával egy s mást a közös asztalra.
URL:https://karizmatikus.hu/event/szilveszter-eji-virrasztas-2/
LOCATION:Pálos Templom\, Hunyadi János utca 72.\, Pécs\, 7625\, Magyarország
CATEGORIES:imaest
ATTACH;FMTTYPE=image/jpeg:https://paloskozpont.hu/wp-content/uploads/2021/12/kepek-003-79.webp
END:VEVENT
BEGIN:VEVENT
DTSTART;TZID=Europe/Budapest:20251212T180000
DTEND;TZID=Europe/Budapest:20251212T200000
DTSTAMP:20260424T124455
CREATED:20251120T174248Z
LAST-MODIFIED:20251120T174248Z
UID:30871-1765562400-1765569600@karizmatikus.hu
SUMMARY:Mária\, a mennyország ajtaja
DESCRIPTION:Szeretettel várunk benneteket a „Mária\, a mennyország kapuja” elnevezésű imaestre. \nAz imaest programja:\n18:00 szentmise \n18:45 vesperás \n19:00 szentségimádás életfelajánlással \nEzen az estén Isten Igéje alapján elmélkedünk Jézus Krisztus szeretetén\, amellyel János apostolt Máriára bízta\, és ezzel mindannyiunk számára példát adott. \n„Íme\, a te anyád!” – Jézusnak Jánoshoz intézett szavai arra bátorítanak\, hogy bizalommal ajánljuk fel magunkat a Szűzanya oltalmába. \nŐ az\, akihez bármikor fordulhatunk kísértések közepette\, az élet nehézségeiben\, hogy vigaszt és védelmet találjunk nála.
URL:https://karizmatikus.hu/event/maria-a-mennyorszag-ajtaja/
LOCATION:Pálos Templom\, Hunyadi János utca 72.\, Pécs\, 7625\, Magyarország
CATEGORIES:imaest
ATTACH;FMTTYPE=image/jpeg:https://paloskozpont.hu/wp-content/uploads/2024/11/kepek-004-10.webp
END:VEVENT
BEGIN:VEVENT
DTSTART;TZID=Europe/Budapest:20251211T180000
DTEND;TZID=Europe/Budapest:20251214T130000
DTSTAMP:20260424T124455
CREATED:20250723T060206Z
LAST-MODIFIED:20250723T060206Z
UID:28861-1765476000-1765717200@karizmatikus.hu
SUMMARY:Belső gyógyulásunkról
DESCRIPTION:Dr. Gál Péter atya lelkigyakorlata
URL:https://karizmatikus.hu/event/belso-gyogyulasunkrol/
LOCATION:Szent Gellért Lelkigyakorlatos Ház\, Móricz Zsigmond út 139.\, Leányfalu\, 2016\, Hungary
CATEGORIES:lelkigyakorlat
ATTACH;FMTTYPE=image/jpeg:https://i3.wp.com/karizmatikus.hu/wp-content/uploads/2024/02/sztgellerthaz.jpg?w=1093&resize=1093,822&ssl=1
ORGANIZER;CN="Szent Gell%C3%A9rt H%C3%A1z":MAILTO:szentgellerthaz@katolikus.hu
END:VEVENT
BEGIN:VEVENT
DTSTART;TZID=Europe/Budapest:20251122T140000
DTEND;TZID=Europe/Budapest:20251122T160000
DTSTAMP:20260424T124455
CREATED:20251104T103917Z
LAST-MODIFIED:20251104T103917Z
UID:30673-1763820000-1763827200@karizmatikus.hu
SUMMARY:Családfa gyógyító szentmise
DESCRIPTION:Ismert tény\, hogy minél teljesebb a kiengesztelődés családtagok\, testvérek\, rokonok között\, annál nagyobb az áldás is. Amint a 133. zsoltár mondja: \n“Íme\, milyen jó és milyen gyönyörűséges\,\nha egyetértésben élnek a testvérek! \nOlyan az\, mint a drága kenet a fejen\,\namely lecsordul a szakállra\,\nÁron szakállára\,\nlecsordul ruhája szegélyére; \nVagy mint a Hermon harmata\, amely lehull\nSion hegyére.\nOtt adja az Úr az áldást\,\nés életet mindörökre.” \nAz ember Isten képére van alkotva\, az Isten pedig három személynek tökéletes egysége. \nEzt a képmást építjük újjá magunkban minden alkalommal\, amikor másokkal kiengesztelődünk\, és jóvátétellel gyógyítjuk a múltban okozott sebeket. Azon túl\, hogy megtapasztalunk egy újfajta békét és derűt\, Isten megnyitja belső látásunkat és képesek leszünk a szívünk hangját hallva cselekedni. \nViszont nemcsak saját múltbeli bűneink okozta sebek akadályozzák az áldás kiáradását\, hanem családunk elhunyt tagjai által elkövetett bűnök is. Az emberiség nagy családjában ugyanis Ádámtól és Évától kezdve titokzatos módon össze vagyunk kapcsolódva\, úgy az áldások kiáradásában\, mint a bűn következményeinek viselésében. \nA családfa gyógyító szentmise fontosságát segít megérteni például az egyház házszentelési gyakorlata. Minden bűn azzal a következménnyel is jár\, hogy gonosz lelkek férkőznek be az ember\, egy család életébe\, és sokszor egy-egy konkrét helyhez is kötődnek a lakásban. Az évente visszatérő házszentelés gyakorlata éppen arra mutat rá\, hogy szükségünk van kivenni magunkat a gonosz lélek uralma alól és Isten uralma alá helyezni magunkat és otthonunkat. A családfa gyógyító szentmisén egy nagyobb “házban” gondolkodunk\, amelyben felmenőink is benne vannak. Engesztelést nyújtunk az ő bűneikért és Isten uralma alá helyezzük családunk előző generációit. \nTovábbi információ és tanúságtételek
URL:https://karizmatikus.hu/event/csaladfa-gyogyito-szentmise/
LOCATION:Pálos Templom\, Hunyadi János utca 72.\, Pécs\, 7625\, Magyarország
CATEGORIES:szentmise
ATTACH;FMTTYPE=image/jpeg:https://paloskozpont.hu/wp-content/uploads/2023/08/kepek-003-64.webp
END:VEVENT
BEGIN:VEVENT
DTSTART;VALUE=DATE:20251110
DTEND;VALUE=DATE:20251115
DTSTAMP:20260424T124455
CREATED:20250927T121723Z
LAST-MODIFIED:20250927T121855Z
UID:29864-1762732800-1763164799@karizmatikus.hu
SUMMARY:Margaritha nővér és Huber atya lelkigyakorlata Kecskeméten
DESCRIPTION:A lelkigyakorlat ideje: 2025. november 10-14. \nHelye: Kecskemét\, Szent Miklós templom (Barátok temploma) Kossuth tér\nJelentkezési határidő\, regisztráció és befizetés: 2025. október 15. \nRegisztrációs díj:\n30.000.- Ft/fő (minden jelentkezőnek)\n– 10.000.-Ft átutalással\, 20.000.- Ft készpénzben a helyszínen fizetendő! \nA rendezvény regisztrációhoz kötött!\nREGISZTRÁCIÓ ITT \nSzervezők:\nLévai Jánosné\nGábor Jánosné Ildikó
URL:https://karizmatikus.hu/event/lelkigyakorlat-margaritha-valappila-nover-es-manfred-huber-atya-vezetesevel-kecskemeten/
LOCATION:Szent Miklós templom\, Lestár tér 2.\, Kecskemét\, 6000\, Hungary
CATEGORIES:lelkigyakorlat
ATTACH;FMTTYPE=image/jpeg:https://karizmatikus.hu/wp-content/uploads/2025/09/Margaritha-Kecskemet.jpg
END:VEVENT
BEGIN:VEVENT
DTSTART;TZID=Europe/Budapest:20251031T230000
DTEND;TZID=Europe/Budapest:20251101T030000
DTSTAMP:20260424T124455
CREATED:20251020T061257Z
LAST-MODIFIED:20251020T061257Z
UID:30430-1761951600-1761966000@karizmatikus.hu
SUMMARY:Virrasztás Mindenszentek éjszakáján
DESCRIPTION:Október 31. éjszakája\, azaz Mindenszentek előestéje az egyre elhatalmasodó Halloween őrület éjszakája lett Magyarországon is. \nMindenszentek ünnepének előestéjén a földi egyház bekapcsolódik a megdicsőült egyház Isten-imádásába. \nCsatlakozunk imájukba\, mellyel közbenjárnak a világért. Biztosak lehetünk abban\, hogy a sötétség\, amely ma annyi embert körülvesz\, szertefoszlik ott\, ahol dicsőítik Istent. \n\nOktóber 31  23:00 – 3:00   óráig időzünk az Oltáriszentség előtt a templomban énekes dicsőítéssel.\nVárunk szeretettel! \nForrás \n\nPálos templom\n\noktóber 31.péntek 23 órától hajnal 3-ig dicsőítő Szentségimádás\n23 óra előtt csendes Szentségimádás van a kápolnában (péntek déltől)\nhajnali 3 óra után szintén csendes Szentségimádás van a kápolnában.
URL:https://karizmatikus.hu/event/virrasztas-mindenszentek-ejszakajan/
LOCATION:Pálos Templom\, Hunyadi János utca 72.\, Pécs\, 7625\, Magyarország
CATEGORIES:imaest
ATTACH;FMTTYPE=image/jpeg:https://paloskozpont.hu/wp-content/uploads/2024/12/kepek-005.webp
END:VEVENT
BEGIN:VEVENT
DTSTART;TZID=Europe/Budapest:20251023T180000
DTEND;TZID=Europe/Budapest:20251026T130000
DTSTAMP:20260424T124455
CREATED:20250723T055757Z
LAST-MODIFIED:20250723T055757Z
UID:28858-1761242400-1761483600@karizmatikus.hu
SUMMARY:Szűz Mária\, szabadulásunk anyja
DESCRIPTION:Dr. Gál Péter atya lelkigyakorlata
URL:https://karizmatikus.hu/event/szuz-maria-szabadulasunk-anyja/
LOCATION:Szent Gellért Lelkigyakorlatos Ház\, Móricz Zsigmond út 139.\, Leányfalu\, 2016\, Hungary
CATEGORIES:lelkigyakorlat
ATTACH;FMTTYPE=image/jpeg:https://i3.wp.com/karizmatikus.hu/wp-content/uploads/2024/02/sztgellerthaz.jpg?w=1093&resize=1093,822&ssl=1
ORGANIZER;CN="Szent Gell%C3%A9rt H%C3%A1z":MAILTO:szentgellerthaz@katolikus.hu
END:VEVENT
END:VCALENDAR