BEGIN:VCALENDAR
VERSION:2.0
PRODID:-//KHM - ECPv6.15.20//NONSGML v1.0//EN
CALSCALE:GREGORIAN
METHOD:PUBLISH
X-ORIGINAL-URL:https://karizmatikus.hu
X-WR-CALDESC:Események KHM
REFRESH-INTERVAL;VALUE=DURATION:PT1H
X-Robots-Tag:noindex
X-PUBLISHED-TTL:PT1H
BEGIN:VTIMEZONE
TZID:Europe/Budapest
BEGIN:DAYLIGHT
TZOFFSETFROM:+0100
TZOFFSETTO:+0200
TZNAME:CEST
DTSTART:20240331T010000
END:DAYLIGHT
BEGIN:STANDARD
TZOFFSETFROM:+0200
TZOFFSETTO:+0100
TZNAME:CET
DTSTART:20241027T010000
END:STANDARD
BEGIN:DAYLIGHT
TZOFFSETFROM:+0100
TZOFFSETTO:+0200
TZNAME:CEST
DTSTART:20250330T010000
END:DAYLIGHT
BEGIN:STANDARD
TZOFFSETFROM:+0200
TZOFFSETTO:+0100
TZNAME:CET
DTSTART:20251026T010000
END:STANDARD
BEGIN:DAYLIGHT
TZOFFSETFROM:+0100
TZOFFSETTO:+0200
TZNAME:CEST
DTSTART:20260329T010000
END:DAYLIGHT
BEGIN:STANDARD
TZOFFSETFROM:+0200
TZOFFSETTO:+0100
TZNAME:CET
DTSTART:20261025T010000
END:STANDARD
END:VTIMEZONE
BEGIN:VEVENT
DTSTART;TZID=Europe/Budapest:20250705T090000
DTEND;TZID=Europe/Budapest:20250705T180000
DTSTAMP:20260420T051107
CREATED:20250701T130850Z
LAST-MODIFIED:20250701T132929Z
UID:28486-1751706000-1751738400@karizmatikus.hu
SUMMARY:Retro Gyűd
DESCRIPTION:Ifjúsági búcsú\, a „régóta fiatalok” búcsúja
URL:https://karizmatikus.hu/event/retro-gyud/
LOCATION:Máriagyűd\, Vujicsics T. u. 66.\, Máriagyűd\, Baranya\, 7800\, Hungary
CATEGORIES:imanap
ATTACH;FMTTYPE=image/jpeg:https://karizmatikus.hu/wp-content/uploads/2025/07/retro-gyud.jpg
END:VEVENT
END:VCALENDAR